Workbook

Sheet Sheet1
A1: 序号 | B1: 工序 | C1: 辅助 | D1: 缺陷代码 | E1: 缺陷名称（11项） | F1: 代码 | G1: 工序段 | H1: 工序代码 | I1: 不良类别 | J1: 流水号 | K1: 辅助列 | L1: 不良科目 | M1: 不良类型 | N1: 释义 | O1: 检查方法/ 工具 | P1: 备注
A2: 1 | B2: 一次外观检 | C2: =IF(B2=0,C1,B2) -> 一次外观检 | D2: =IFERROR(LOOKUP(1,0/(E2=[1]缺陷名称明细表!$C$2:$C$51),[1]缺陷名称明细表!$B$2:$B$51),"") -> QX000117 | E2: 电芯外观不良 | F2: =G2&H2&I2&J2 -> PFVA233 | G2: P | H2: =VLOOKUP(C2,'[1]工序简称对应表-修改'!$G$4:$H$96,2,0) -> FV | I2: =HLOOKUP(M2,[1]代码命名规则!$C$22:$G$23,2,0) -> A | J2: =VLOOKUP(L2,[1]标准不良科目!$D$8:$F$304,2,0) -> 233 | K2: =C2&"-"&L2 -> 一次外观检-平面度不良 | L2: 平面度不良 | M2: =VLOOKUP(L2,[1]标准不良科目!$D$8:$G$303,3,0) -> 外观不良 | N2: =VLOOKUP(L2,[1]标准不良科目!$D$8:$G$303,4,0) -> 电池来料平面度不满足要求
A3: 2 | C3: =IF(B3=0,C2,B3) -> 一次外观检 | D3: =IFERROR(LOOKUP(1,0/(E3=[1]缺陷名称明细表!$C$2:$C$51),[1]缺陷名称明细表!$B$2:$B$51),"") -> QX000179 | E3: 重量不合格 | F3: =G3&H3&I3&J3 -> PFVP150 | G3: P | H3: =VLOOKUP(C3,'[1]工序简称对应表-修改'!$G$4:$H$96,2,0) -> FV | I3: =HLOOKUP(M3,[1]代码命名规则!$C$22:$G$23,2,0) -> P | J3: =VLOOKUP(L3,[1]标准不良科目!$D$8:$F$304,2,0) -> 150 | K3: =C3&"-"&L3 -> 一次外观检-电池重量不良 | L3: 电池重量不良 | M3: =VLOOKUP(L3,[1]标准不良科目!$D$8:$G$303,3,0) -> 性能不良 | N3: =VLOOKUP(L3,[1]标准不良科目!$D$8:$G$303,4,0) -> 电池成品重量不符合文件要求，不允许
A4: 3 | C4: =IF(B4=0,C3,B4) -> 一次外观检 | D4: =IFERROR(LOOKUP(1,0/(E4=[1]缺陷名称明细表!$C$2:$C$51),[1]缺陷名称明细表!$B$2:$B$51),"") -> QX000025 | E4: 电芯尺寸不良 | F4: =G4&H4&I4&J4 -> PFVP151 | G4: P | H4: =VLOOKUP(C4,'[1]工序简称对应表-修改'!$G$4:$H$96,2,0) -> FV | I4: =HLOOKUP(M4,[1]代码命名规则!$C$22:$G$23,2,0) -> P | J4: =VLOOKUP(L4,[1]标准不良科目!$D$8:$F$304,2,0) -> 151 | K4: =C4&"-"&L4 -> 一次外观检-电池尺寸不良 | L4: 电池尺寸不良 | M4: =VLOOKUP(L4,[1]标准不良科目!$D$8:$G$303,3,0) -> 性能不良 | N4: =VLOOKUP(L4,[1]标准不良科目!$D$8:$G$303,4,0) -> 电池成品长、宽、高某项不符合文件要求，不允许
A5: 4 | C5: =IF(B5=0,C4,B5) -> 一次外观检 | D5: =IFERROR(LOOKUP(1,0/(E5=[1]缺陷名称明细表!$C$2:$C$51),[1]缺陷名称明细表!$B$2:$B$51),"") -> QX000117 | E5: 电芯外观不良 | F5: =G5&H5&I5&J5 -> PFVA152 | G5: P | H5: =VLOOKUP(C5,'[1]工序简称对应表-修改'!$G$4:$H$96,2,0) -> FV | I5: =HLOOKUP(M5,[1]代码命名规则!$C$22:$G$23,2,0) -> A | J5: =VLOOKUP(L5,[1]标准不良科目!$D$8:$F$304,2,0) -> 152 | K5: =C5&"-"&L5 -> 一次外观检-极柱不良 | L5: 极柱不良 | M5: =VLOOKUP(L5,[1]标准不良科目!$D$8:$G$303,3,0) -> 外观不良 | N5: =VLOOKUP(L5,[1]标准不良科目!$D$8:$G$303,4,0) -> 电芯极柱面缺失/破损等不符合标准，不允许
A6: 5 | C6: =IF(B6=0,C5,B6) -> 一次外观检 | D6: =IFERROR(LOOKUP(1,0/(E6=[1]缺陷名称明细表!$C$2:$C$51),[1]缺陷名称明细表!$B$2:$B$51),"") -> QX000117 | E6: 电芯外观不良 | F6: =G6&H6&I6&J6 -> PFVA154 | G6: P | H6: =VLOOKUP(C6,'[1]工序简称对应表-修改'!$G$4:$H$96,2,0) -> FV | I6: =HLOOKUP(M6,[1]代码命名规则!$C$22:$G$23,2,0) -> A | J6: =VLOOKUP(L6,[1]标准不良科目!$D$8:$F$304,2,0) -> 154 | K6: =C6&"-"&L6 -> 一次外观检-电解液污染 | L6: 电解液污染 | M6: =VLOOKUP(L6,[1]标准不良科目!$D$8:$G$303,3,0) -> 外观不良 | N6: =VLOOKUP(L6,[1]标准不良科目!$D$8:$G$303,4,0) -> 电解液溢出，污染电芯表面，不符合文件要求，不允许
A7: 6 | C7: =IF(B7=0,C6,B7) -> 一次外观检 | D7: =IFERROR(LOOKUP(1,0/(E7=[1]缺陷名称明细表!$C$2:$C$51),[1]缺陷名称明细表!$B$2:$B$51),"") -> QX000193 | E7: 撞伤/压伤/摔伤/夹伤 | F7: =G7&H7&I7&J7 -> PFVA003 | G7: P | H7: =VLOOKUP(C7,'[1]工序简称对应表-修改'!$G$4:$H$96,2,0) -> FV | I7: =HLOOKUP(M7,[1]代码命名规则!$C$22:$G$23,2,0) -> A | J7: =VLOOKUP(L7,[1]标准不良科目!$D$8:$F$304,2,0) -> 003 | K7: =C7&"-"&L7 -> 一次外观检-异常受损 | L7: 异常受损 | M7: =VLOOKUP(L7,[1]标准不良科目!$D$8:$G$303,3,0) -> 外观不良 | N7: =VLOOKUP(L7,[1]标准不良科目!$D$8:$G$303,4,0) -> 因为外力，如夹伤、划伤、跌落、挤压、撞伤、压伤、摔伤导致极片、芯包、电芯主体变形受损不允许
A8: 7 | C8: =IF(B8=0,C7,B8) -> 一次外观检 | D8: =IFERROR(LOOKUP(1,0/(E8=[1]缺陷名称明细表!$C$2:$C$51),[1]缺陷名称明细表!$B$2:$B$51),"") -> QX000117 | E8: 电芯外观不良 | F8: =G8&H8&I8&J8 -> PFVA211 | G8: P | H8: =VLOOKUP(C8,'[1]工序简称对应表-修改'!$G$4:$H$96,2,0) -> FV | I8: =HLOOKUP(M8,[1]代码命名规则!$C$22:$G$23,2,0) -> A | J8: =VLOOKUP(L8,[1]标准不良科目!$D$8:$F$304,2,0) -> 211 | K8: =C8&"-"&L8 -> 一次外观检-焊渣-满焊 | L8: 焊渣-满焊 | M8: =VLOOKUP(L8,[1]标准不良科目!$D$8:$G$303,3,0) -> 外观不良 | N8: =VLOOKUP(L8,[1]标准不良科目!$D$8:$G$303,4,0) -> 蓝膜表面有硬质凸起，撕开后凸起位置为粘连到电池表面金属异物
A9: 8 | C9: =IF(B9=0,C8,B9) -> 一次外观检 | D9: =IFERROR(LOOKUP(1,0/(E9=[1]缺陷名称明细表!$C$2:$C$51),[1]缺陷名称明细表!$B$2:$B$51),"") -> QX000117 | E9: 电芯外观不良 | F9: =G9&H9&I9&J9 -> PFVA212 | G9: P | H9: =VLOOKUP(C9,'[1]工序简称对应表-修改'!$G$4:$H$96,2,0) -> FV | I9: =HLOOKUP(M9,[1]代码命名规则!$C$22:$G$23,2,0) -> A | J9: =VLOOKUP(L9,[1]标准不良科目!$D$8:$F$304,2,0) -> 212 | K9: =C9&"-"&L9 -> 一次外观检-焊渣-密封钉焊 | L9: 焊渣-密封钉焊 | M9: =VLOOKUP(L9,[1]标准不良科目!$D$8:$G$303,3,0) -> 外观不良 | N9: =VLOOKUP(L9,[1]标准不良科目!$D$8:$G$303,4,0) -> 蓝膜表面有硬质凸起，撕开后凸起位置为粘连到电池表面金属异物
A10: 9 | C10: =IF(B10=0,C9,B10) -> 一次外观检 | D10: =IFERROR(LOOKUP(1,0/(E10=[1]缺陷名称明细表!$C$2:$C$51),[1]缺陷名称明细表!$B$2:$B$51),"") -> QX000117 | E10: 电芯外观不良 | F10: =G10&H10&I10&J10 -> PFVA127 | G10: P | H10: =VLOOKUP(C10,'[1]工序简称对应表-修改'!$G$4:$H$96,2,0) -> FV | I10: =HLOOKUP(M10,[1]代码命名规则!$C$22:$G$23,2,0) -> A | J10: =VLOOKUP(L10,[1]标准不良科目!$D$8:$F$304,2,0) -> 127 | K10: =C10&"-"&L10 -> 一次外观检-凹坑 | L10: 凹坑 | M10: =VLOOKUP(L10,[1]标准不良科目!$D$8:$G$303,3,0) -> 外观不良 | N10: =VLOOKUP(L10,[1]标准不良科目!$D$8:$G$303,4,0) -> 焊接焊线出现异常凹坑或正负极NMP滴落形成凹坑，不满足产品外观标准，不允许
A11: 10 | C11: =IF(B11=0,C10,B11) -> 一次外观检 | D11: =IFERROR(LOOKUP(1,0/(E11=[1]缺陷名称明细表!$C$2:$C$51),[1]缺陷名称明细表!$B$2:$B$51),"") -> QX000069 | E11: 焊接不良 | F11: =G11&H11&I11&J11 -> PFVA130 | G11: P | H11: =VLOOKUP(C11,'[1]工序简称对应表-修改'!$G$4:$H$96,2,0) -> FV | I11: =HLOOKUP(M11,[1]代码命名规则!$C$22:$G$23,2,0) -> A | J11: =VLOOKUP(L11,[1]标准不良科目!$D$8:$F$304,2,0) -> 130 | K11: =C11&"-"&L11 -> 一次外观检-沙眼 | L11: 沙眼 | M11: =VLOOKUP(L11,[1]标准不良科目!$D$8:$G$303,3,0) -> 外观不良 | N11: =VLOOKUP(L11,[1]标准不良科目!$D$8:$G$303,4,0) -> 焊接焊线出现异常沙眼或小孔，不满足产品外观标准，不允许
A12: 11 | C12: =IF(B12=0,C11,B12) -> 一次外观检 | D12: =IFERROR(LOOKUP(1,0/(E12=[1]缺陷名称明细表!$C$2:$C$51),[1]缺陷名称明细表!$B$2:$B$51),"") -> QX000117 | E12: 电芯外观不良 | F12: =G12&H12&I12&J12 -> PFVA217 | G12: P | H12: =VLOOKUP(C12,'[1]工序简称对应表-修改'!$G$4:$H$96,2,0) -> FV | I12: =HLOOKUP(M12,[1]代码命名规则!$C$22:$G$23,2,0) -> A | J12: =VLOOKUP(L12,[1]标准不良科目!$D$8:$F$304,2,0) -> 217 | K12: =C12&"-"&L12 -> 一次外观检-壳体划痕 | L12: 壳体划痕 | M12: =VLOOKUP(L12,[1]标准不良科目!$D$8:$G$303,3,0) -> 外观不良 | N12: =VLOOKUP(L12,[1]标准不良科目!$D$8:$G$303,4,0) -> 壳体表面存在划痕/划伤
A13: 12 | C13: =IF(B13=0,C12,B13) -> 一次外观检 | D13: =IFERROR(LOOKUP(1,0/(E13=[1]缺陷名称明细表!$C$2:$C$51),[1]缺陷名称明细表!$B$2:$B$51),"") -> QX000117 | E13: 电芯外观不良 | F13: =G13&H13&I13&J13 -> PFVA218 | G13: P | H13: =VLOOKUP(C13,'[1]工序简称对应表-修改'!$G$4:$H$96,2,0) -> FV | I13: =HLOOKUP(M13,[1]代码命名规则!$C$22:$G$23,2,0) -> A | J13: =VLOOKUP(L13,[1]标准不良科目!$D$8:$F$304,2,0) -> 218 | K13: =C13&"-"&L13 -> 一次外观检-壳体毛刺 | L13: 壳体毛刺 | M13: =VLOOKUP(L13,[1]标准不良科目!$D$8:$G$303,3,0) -> 外观不良 | N13: =VLOOKUP(L13,[1]标准不良科目!$D$8:$G$303,4,0) -> 壳体面/边缘毛刺
A14: 13 | C14: =IF(B14=0,C13,B14) -> 一次外观检 | D14: =IFERROR(LOOKUP(1,0/(E14=[1]缺陷名称明细表!$C$2:$C$51),[1]缺陷名称明细表!$B$2:$B$51),"") -> QX000117 | E14: 电芯外观不良 | F14: =G14&H14&I14&J14 -> PFVA219 | G14: P | H14: =VLOOKUP(C14,'[1]工序简称对应表-修改'!$G$4:$H$96,2,0) -> FV | I14: =HLOOKUP(M14,[1]代码命名规则!$C$22:$G$23,2,0) -> A | J14: =VLOOKUP(L14,[1]标准不良科目!$D$8:$F$304,2,0) -> 219 | K14: =C14&"-"&L14 -> 一次外观检-翘钉/针孔/密封钉不良 | L14: 翘钉/针孔/密封钉不良 | M14: =VLOOKUP(L14,[1]标准不良科目!$D$8:$G$303,3,0) -> 外观不良 | N14: =VLOOKUP(L14,[1]标准不良科目!$D$8:$G$303,4,0) -> 密封钉焊接高出壳体高度/针孔/凸钉
... A20: 19 | C20: =IF(B20=0,C19,B20) -> 一次外观检 | D20: =IFERROR(LOOKUP(1,0/(E20=[1]缺陷名称明细表!$C$2:$C$51),[1]缺陷名称明细表!$B$2:$B$51),"") -> QX000224 | E20: 无数据电池 | F20: =G20&H20&I20&J20 -> PFVA004 | G20: P | H20: =VLOOKUP(C20,'[1]工序简称对应表-修改'!$G$4:$H$96,2,0) -> FV | I20: =HLOOKUP(M20,[1]代码命名规则!$C$22:$G$23,2,0) -> A | J20: =VLOOKUP(L20,[1]标准不良科目!$D$8:$F$304,2,0) -> 004 | K20: =C20&"-"&L20 -> 一次外观检-标识信息不良 | L20: 标识信息不良 | M20: =VLOOKUP(L20,[1]标准不良科目!$D$8:$G$303,3,0) -> 外观不良 | N20: =VLOOKUP(L20,[1]标准不良科目!$D$8:$G$303,4,0) -> 包含扫码不良、喷码不良、刻码不良、mes系统数据缺失、RFID不良等标识信息不良
